BEGIN:VCALENDAR
PRODID:-//eluceo/ical//2.0/EN
VERSION:2.0
CALSCALE:GREGORIAN
BEGIN:VEVENT
UID:0c47df8a3ce16ae3e2e033fae114ed6e
DTSTAMP:20260423T002536Z
SUMMARY:Rótarýfundur: Klúbbfundur AFLÝST
DESCRIPTION:
URL:https://selfoss.rotary1360.is/en/agenda/show/2778
DTSTART;TZID=Iceland:20210413T183000
DTEND;TZID=Iceland:20210413T200000
LOCATION:Hótel Selfoss\nEyrarvegur\n800 Selfoss\n
CATEGORIES:Rotary
END:VEVENT
BEGIN:VTIMEZONE
TZID:Iceland
BEGIN:STANDARD
DTSTART:20210413T183000
TZNAME:GMT
TZOFFSETTO:+0000
TZOFFSETFROM:+0000
END:STANDARD
END:VTIMEZONE
END:VCALENDAR
