BEGIN:VCALENDAR
PRODID:-//eluceo/ical//2.0/EN
VERSION:2.0
CALSCALE:GREGORIAN
BEGIN:VEVENT
UID:41fa393abef21d1d5b8f3376757ef4c2
DTSTAMP:20260421T140426Z
SUMMARY:Stjórnarskiptafundur
DESCRIPTION:
URL:https://selfoss.rotary1360.is/is/agenda/show/1048
DTSTART;TZID=Iceland:20190625T190000
DTEND;TZID=Iceland:20190625T200000
LOCATION:Hótel Selfoss\nEyrarvegur\n800 Selfoss\n
CATEGORIES:Rotary
END:VEVENT
BEGIN:VTIMEZONE
TZID:Iceland
BEGIN:STANDARD
DTSTART:20190625T190000
TZNAME:GMT
TZOFFSETTO:+0000
TZOFFSETFROM:+0000
END:STANDARD
END:VTIMEZONE
END:VCALENDAR
